0.10000000000000
0.00000000000000
0.00000000000000
-0.10000000000000
700523.14408619679000
257726.29537393234000
