-0.10000000000000
0.00000000000000
0.00000000000000
0.10000000000000
701314.85591380321000
242463.70462606766000
