-0.10000000000000
0.00000000000000
0.00000000000000
0.10000000000000
701294.85591380321000
244434.70462606766000
