-0.10000000000000
0.00000000000000
0.00000000000000
0.10000000000000
701271.85591380321000
252434.70462606766000
