-0.10000000000000
0.00000000000000
0.00000000000000
0.10000000000000
701277.85591380321000
253178.70462606766000
