0.10000000000000
0.00000000000000
0.00000000000000
-0.10000000000000
698299.14408619679000
251273.29537393234000
