0.10000000000000
0.00000000000000
0.00000000000000
-0.10000000000000
698296.14408619679000
251926.29537393234000
