0.10000000000000
0.00000000000000
0.00000000000000
-0.10000000000000
698294.14408619679000
253231.29537393234000
