0.10000000000000
0.00000000000000
0.00000000000000
-0.10000000000000
698291.14408619679000
254516.29537393234000
