-0.10000000000000
0.00000000000000
0.00000000000000
0.10000000000000
699105.85591380321000
249653.70462606766000
