-0.10000000000000
0.00000000000000
0.00000000000000
0.10000000000000
699101.85591380321000
254497.70462606766000
