-0.10000000000000
0.00000000000000
0.00000000000000
0.10000000000000
697963.85591380321000
254513.70462606766000
