-0.00000000000000
-0.09000000000000
-0.09000000000000
0.00000000000000
711173.62803314126000
260507.17704086981000
