-0.00000000000000
-0.09000000000000
-0.09000000000000
0.00000000000000
710063.62803314126000
260290.17704086981000
