-0.00000000000000
-0.09000000000000
-0.09000000000000
0.00000000000000
708997.62803314126000
258049.17704086981000
