-0.00000000000000
-0.09000000000000
-0.09000000000000
0.00000000000000
709016.62803314126000
259667.17704086981000
