-0.00000000000000
-0.09000000000000
-0.09000000000000
0.00000000000000
709029.62803314126000
261542.17704086981000
