-0.00000000000000
-0.09000000000000
-0.09000000000000
0.00000000000000
709032.62803314126000
266366.17704086978000
