0.00000000000000
0.09000000000000
0.09000000000000
-0.00000000000000
706135.37196685874000
255492.82295913019000
