0.00000000000000
0.09000000000000
0.09000000000000
-0.00000000000000
706162.37196685874000
258667.82295913019000
