0.00000000000000
0.09000000000000
0.09000000000000
-0.00000000000000
706186.37196685874000
263381.82295913022000
