-0.00000000000000
-0.09000000000000
-0.09000000000000
0.00000000000000
706807.67429001839000
258984.17704086981000
