-0.00000000000000
-0.09000000000000
-0.09000000000000
0.00000000000000
706813.62803314126000
262334.17704086978000
