-0.00000000000000
-0.09000000000000
-0.09000000000000
0.00000000000000
706824.62803314126000
265322.17704086978000
