-0.00000000000000
-0.09000000000000
-0.09000000000000
0.00000000000000
706822.62803314126000
266894.17704086978000
