-0.00000000000000
-0.09000000000000
-0.09000000000000
0.00000000000000
706812.62803314126000
270427.17704086978000
