0.00000000000000
0.09000000000000
0.09000000000000
-0.00000000000000
703923.37196685874000
257062.82295913019000
