0.00000000000000
0.09000000000000
0.09000000000000
-0.00000000000000
703919.37196685874000
257582.82295913019000
