0.00000000000000
0.09000000000000
0.09000000000000
-0.00000000000000
703946.37196685874000
262841.82295913022000
