0.00000000000000
0.09000000000000
0.09000000000000
-0.00000000000000
703958.37196685874000
265131.82295913022000
