-0.00000000000000
-0.09000000000000
-0.09000000000000
0.00000000000000
704584.62803314126000
258659.17704086981000
