-0.00000000000000
-0.09000000000000
-0.09000000000000
0.00000000000000
704647.62803314126000
265771.17704086978000
