-0.00000000000000
-0.09000000000000
-0.09000000000000
0.00000000000000
704651.62803314126000
268509.17704086978000
