-0.00000000000000
-0.09000000000000
-0.09000000000000
0.00000000000000
704655.62803314126000
270069.17704086978000
