-0.00000000000000
-0.09000000000000
-0.09000000000000
0.00000000000000
704674.62803314126000
275361.17704086978000
