-0.00000000000000
-0.09000000000000
-0.09000000000000
0.00000000000000
704686.62803314126000
276051.17704086978000
