-0.00000000000000
-0.09000000000000
-0.09000000000000
0.00000000000000
704682.62803314126000
278012.17704086978000
