-0.00000000000000
-0.09000000000000
-0.09000000000000
0.00000000000000
704690.62803314126000
278655.17704086978000
