0.00000000000000
0.09000000000000
0.09000000000000
-0.00000000000000
701765.37196685874000
257749.82295913019000
