0.00000000000000
0.09000000000000
0.09000000000000
-0.00000000000000
701771.37196685874000
262254.82295913022000
