0.00000000000000
0.09000000000000
0.09000000000000
-0.00000000000000
701768.37196685874000
267539.82295913022000
