0.00000000000000
0.09000000000000
0.09000000000000
-0.00000000000000
701801.37196685874000
272338.82295913022000
