0.00000000000000
0.09000000000000
0.09000000000000
-0.00000000000000
700649.37196685874000
257470.82295913019000
