0.00000000000000
0.09000000000000
0.09000000000000
-0.00000000000000
700665.37196685874000
262603.82295913022000
