0.00000000000000
0.09000000000000
0.09000000000000
-0.00000000000000
700669.37196685874000
265163.82295913022000
