0.00000000000000
0.09000000000000
0.09000000000000
-0.00000000000000
700682.37196685874000
271642.82295913022000
