0.00000000000000
0.09000000000000
0.09000000000000
-0.00000000000000
700671.37196685874000
276810.82295913022000
