0.00000000000000
0.09000000000000
0.09000000000000
-0.00000000000000
700675.37196685874000
278762.82295913022000
