-0.00000000000000
-0.09000000000000
-0.09000000000000
0.00000000000000
701325.62803314126000
259682.17704086981000
