-0.00000000000000
-0.09000000000000
-0.09000000000000
0.00000000000000
701340.62803314126000
266616.17704086978000
